Workbook

Sheet General Summary
A1: GENERAL SUMMARY
A2: ='Takeoff Breakdown'!A3 -> Prepared for: | B2: ='Takeoff Breakdown'!B3 -> A New 70 Room Home 2 Hotel Project At Gh Drive Austinberg, OHIO, 44010
A3: ='Takeoff Breakdown'!A4 -> Project ID: | B3: ='Takeoff Breakdown'!B4 -> 46002
A4: ='Takeoff Breakdown'!A5 -> Scope: | B4: ='Takeoff Breakdown'!B5 -> MEP
A5: No. Of Floors: | B5: 3
A6: Date: | B6: ='Takeoff Breakdown'!N9 -> 46002
A8: BUILDING GSF | B8: =B9+B10 -> 126458
A9: Site (SF) | B9: 79364
A10: Building (SF) | B10: 47094
A11: DIVISION NO | B11: DESCRIPTION | C11: TOTAL DIV. COST | D11: TOTAL DIV. COST (PER SF)
A12: 1000 | B12: General Requirements | C12: ='Takeoff Breakdown'!N19 -> 0 | D12: =C12/$B$8 -> 0
A13: 21000 | B13: Fire Suppression | C13: ='Takeoff Breakdown'!N36 -> 0 | D13: =C13/$B$8 -> 0
A14: 22000 | B14: Plumbing | C14: ='Takeoff Breakdown'!N242 -> 0 | D14: =C14/$B$8 -> 0
A15: 23000 | B15: HVAC | C15: ='Takeoff Breakdown'!N397 -> 0 | D15: =C15/$B$8 -> 0
A16: 26000 | B16: Electrical | C16: ='Takeoff Breakdown'!N530 -> 0 | D16: =C16/$B$8 -> 0
A17: 27000 | B17: Communications | C17: ='Takeoff Breakdown'!N554 -> 0 | D17: =C17/$B$8 -> 0
A18: 28000 | B18: Electronic Safety and Security | C18: ='Takeoff Breakdown'!N579 -> 0 | D18: =C18/$B$8 -> 0
A19: 33000 | B19: Utilities | C19: ='Takeoff Breakdown'!N656 -> 0 | D19: =C19/$B$8 -> 0
A20: TOTAL TRADE COST | C20: =SUM(C12:C19) -> 0 | D20: =SUM(D12:D19) -> 0
A22: OVERHEAD AND PROFIT | B22: =+'Takeoff Breakdown'!M659 -> 0.15 | C22: =C20*B22 -> 0 | D22: =D20*B22 -> 0
A23: INSURANCE | B23: =+'Takeoff Breakdown'!M660 -> 0 | C23: =C20*B23 -> 0 | D23: =D20*B23 -> 0
A24: CONTINGENCY | B24: =+'Takeoff Breakdown'!M661 -> 0 | C24: =C20*B24 -> 0 | D24: =D20*B24 -> 0
A25: TAX | B25: ='Takeoff Breakdown'!M662 -> 0 | C25: =C20*B25 -> 0 | D25: =D20*B25 -> 0
A26: SUGGESTED BID | C26: =SUM(C20,C22:C25) -> 0 | D26: =SUM(D20,D22:D25) -> 0

Sheet Takeoff Breakdown
A2: DETAILED BREAKDOWN OF ITEMS
A3: Prepared for: | B3: A New 70 Room Home 2 Hotel Project At Gh Drive Austinberg, OHIO, 44010
A4: Project ID: | B4: =TODAY() -> 46002
A5: Scope: | B5: MEP
M9: Date: | N9: =TODAY() -> 46002
A10: SR # | B10: Drawing # | C10: Detail # | D10: DESCRIPTION | E10: UNIT | F10: QUANTITY | G10: WASTAGE | H10: QUANTITY W/ WASTAGE | I10: UNIT MANHOUR | J10: HOURLY WAGE | K10: LABOR COST | L10: MAT. COST | M10: UNIT COST | N10: SUB COST
E11: GENERAL REQUIREMENTS
A12: =IF(G12<>"",1+MAX($A$2:A11),"") -> 1 | D12: Permits | E12: LS | F12: 1 | G12: 0 | H12: =(G12*F12)+F12 -> 1 | I12: 0 | J12: 0 | K12: 0 | L12: 0 | M12: 0 | N12: =H12*M12 -> 0
A13: =IF(G13<>"",1+MAX($A$2:A12),"") -> 2 | D13: Supervision and Coordination | E13: LS | F13: 1 | G13: 0 | H13: =(G13*F13)+F13 -> 1 | I13: 0 | J13: 0 | K13: 0 | L13: 0 | M13: 0 | N13: =H13*M13 -> 0
A14: =IF(G14<>"",1+MAX($A$2:A13),"") -> 3 | D14: Submittals and Shop drawings | E14: LS | F14: 1 | G14: 0 | H14: =(G14*F14)+F14 -> 1 | I14: 0 | J14: 0 | K14: 0 | L14: 0 | M14: 0 | N14: =H14*M14 -> 0
A15: =IF(G15<>"",1+MAX($A$2:A14),"") -> 4 | D15: Final Cleaning | E15: LS | F15: 1 | G15: 0 | H15: =(G15*F15)+F15 -> 1 | I15: 0 | J15: 0 | K15: 0 | L15: 0 | M15: 0 | N15: =H15*M15 -> 0
A16: =IF(G16<>"",1+MAX($A$2:A15),"") -> 5 | D16: Mobilization Costs | E16: LS | F16: 1 | G16: 0 | H16: =(G16*F16)+F16 -> 1 | I16: 0 | J16: 0 | K16: 0 | L16: 0 | M16: 0 | N16: =H16*M16 -> 0
A17: =IF(G17<>"",1+MAX($A$2:A16),"") -> 6 | D17: Temporary Control & Facilities | E17: LS | F17: 1 | G17: 0 | H17: =(G17*F17)+F17 -> 1 | I17: 0 | J17: 0 | K17: 0 | L17: 0 | M17: 0 | N17: =H17*M17 -> 0
A18: =IF(G18<>"",1+MAX($A$2:A17),"") -> 7 | D18: Scaffolding | E18: LS | F18: 1 | G18: 0 | H18: =(G18*F18)+F18 -> 1 | I18: 0 | J18: 0 | K18: 0 | L18: 0 | M18: 0 | N18: =H18*M18 -> 0
A19: =IF(G19<>"",1+MAX($A$2:A18),"") | M19: SUBTOTAL | N19: =SUM(N12:N18) -> 0
A20: =IF(G20<>"",1+MAX($A$2:A19),"")
A21: =IF(G21<>"",1+MAX($A$2:A20),"") | E21: FIRE SUPPRESSION
A22: =IF(G22<>"",1+MAX($A$2:A21),"") | D22: SPRINKLER HEADS
A23: =IF(G23<>"",1+MAX($A$2:A22),"") -> 8 | B23: FP-101, FP-102, FP-103 & FP-200 | C23: Assumed | D23: 3/4" Dia Concealed Sprinkler Head | E23: EA | F23: 63 | G23: 0 | H23: =(G23*F23)+F23 -> 63 | I23: 0 | J23: 0 | K23: =I23*J23 -> 0 | L23: 0 | M23: =+L23+K23 -> 0 | N23: =H23*M23 -> 0
A24: =IF(G24<>"",1+MAX($A$2:A23),"") -> 9 | D24: 3/4" Dia Dry Type Sprinkler Head | E24: EA | F24: 2 | G24: 0 | H24: =(G24*F24)+F24 -> 2 | I24: 0 | J24: 0 | K24: =I24*J24 -> 0 | L24: 0 | M24: =+L24+K24 -> 0 | N24: =H24*M24 -> 0
A25: =IF(G25<>"",1+MAX($A$2:A24),"") -> 10 | D25: 3/4" Dia Sidewall Sprinkler Head | E25: EA | F25: 12 | G25: 0 | H25: =(G25*F25)+F25 -> 12 | I25: 0 | J25: 0 | K25: =I25*J25 -> 0 | L25: 0 | M25: =+L25+K25 -> 0 | N25: =H25*M25 -> 0
A26: =IF(G26<>"",1+MAX($A$2:A25),"") | D26: MISCELLANEOUS
A27: =IF(G27<>"",1+MAX($A$2:A26),"") -> 11 | C27: As Per Fire Protection Plans | D27: Water Gong | E27: EA | F27: 1 | G27: 0 | H27: =(G27*F27)+F27 -> 1 | I27: 0 | J27: 0 | K27: =I27*J27 -> 0 | L27: 0 | M27: =+L27+K27 -> 0 | N27: =H27*M27 -> 0
A28: =IF(G28<>"",1+MAX($A$2:A27),"") -> 12 | D28: Sprinkler Head Cabinet | E28: EA | F28: 1 | G28: 0 | H28: =(G28*F28)+F28 -> 1 | I28: 0 | J28: 0 | K28: =I28*J28 -> 0 | L28: 0 | M28: =+L28+K28 -> 0 | N28: =H28*M28 -> 0
A29: =IF(G29<>"",1+MAX($A$2:A28),"") | D29: VALVES:
A30: =IF(G30<>"",1+MAX($A$2:A29),"") -> 13 | D30: Double Check Detector Valve Assemblies W/ Silicone Rubber Seal Rings Or Disks: A.) Hersey DDC11 (3"-10") B.) Febco 805yd (3"-10") C.) Watts 709 (3"-10") D.) Wilkins 950 Xl (3"-10") | E30: EA | F30: 1 | G30: 0 | H30: =(G30*F30)+F30 -> 1 | I30: 0 | J30: 0 | K30: =I30*J30 -> 0 | L30: 0 | M30: =+L30+K30 -> 0 | N30: =H30*M30 -> 0
A31: =IF(G31<>"",1+MAX($A$2:A30),"") -> 14 | D31: 6" Dia OS&Y Gate Valve with Tamper Switch | E31: EA | F31: 1 | G31: 0 | H31: =(G31*F31)+F31 -> 1 | I31: 0 | J31: 0 | K31: =I31*J31 -> 0 | L31: 0 | M31: =+L31+K31 -> 0 | N31: =H31*M31 -> 0
A32: =IF(G32<>"",1+MAX($A$2:A31),"") -> 15 | D32: 6" Dia Check Valve | E32: EA | F32: 1 | G32: 0 | H32: =(G32*F32)+F32 -> 1 | I32: 0 | J32: 0 | K32: =I32*J32 -> 0 | L32: 0 | M32: =+L32+K32 -> 0 | N32: =H32*M32 -> 0
A33: =IF(G33<>"",1+MAX($A$2:A32),"") -> 16 | D33: Water Flow Switch | E33: EA | F33: 1 | G33: 0 | H33: =(G33*F33)+F33 -> 1 | I33: 0 | J33: 0 | K33: =I33*J33 -> 0 | L33: 0 | M33: =+L33+K33 -> 0 | N33: =H33*M33 -> 0
A34: =IF(G34<>"",1+MAX($A$2:A33),"") | D34: ALLOWANCE
A35: =IF(G35<>"",1+MAX($A$2:A34),"") -> 17 | D35: Allowance for all Fire Protection Piping, Piping Fittings, Hangers & Supports with all Relevant Accessories. (SF 47094) | E35: LS | F35: 1 | G35: 0 | H35: =(G35*F35)+F35 -> 1 | I35: 0 | J35: 0 | K35: =I35*J35 -> 0 | L35: 0 | M35: =+L35+K35 -> 0 | N35: =H35*M35 -> 0
A36: =IF(G36<>"",1+MAX($A$2:A35),"") | M36: SUBTOTAL | N36: =SUM(N22:N35) -> 0
A37: =IF(G37<>"",1+MAX($A$2:A36),"")
A38: =IF(G38<>"",1+MAX($A$2:A37),"") | E38: PLUMBING
A39: =IF(G39<>"",1+MAX($A$2:A38),"") | B39: Sheet No # P101-P601 | C39: From Plumbing Plans | D39: COLD WATER PIPE (BELOW GRADE)
A40: =IF(G40<>"",1+MAX($A$2:A39),"") | D40: Copper Type "K" With ASTM Standards And Fittings (Assumed)
A41: =IF(G41<>"",1+MAX($A$2:A40),"") -> 18 | D41: 3/4" Dia Cold Water Pipe | E41: LF | F41: 15 | G41: 0.1 | H41: =(G41*F41)+F41 -> 16.5 | I41: 0 | J41: 0 | K41: =I41*J41 -> 0 | L41: 0 | M41: =+L41+K41 -> 0 | N41: =H41*M41 -> 0
A42: =IF(G42<>"",1+MAX($A$2:A41),"") | D42: 1/2" Thick Fiber Mineral Insulation With ASTM Standards
A43: =IF(G43<>"",1+MAX($A$2:A42),"") -> 19 | D43: 3/4" Dia Cold Water Pipe | E43: LF | F43: 15 | G43: 0.1 | H43: =(G43*F43)+F43 -> 16.5 | I43: 0 | J43: 0 | K43: =I43*J43 -> 0 | L43: 0 | M43: =+L43+K43 -> 0 | N43: =H43*M43 -> 0
A44: =IF(G44<>"",1+MAX($A$2:A43),"") | D44: COLD WATER PIPE FITTINGS
...

Sheet Duct Takeoff
A2: BREAKDOWN OF DUCT ITEMS
A3: Prepared for: | B3: A New 70 Room Home 2 Hotel Project At Gh Drive Austinberg, OHIO, 44010
A4: Project ID: | B4: =TODAY() -> 46002
A5: Scope: | B5: MEP
E9: Date: | F9: ='[1]Takeoff Breakdown'!N9 -> 46002
A10: SR # | B10: DESCRIPTION | C10: UNIT | D10: QUANTITY | E10: WASTAGE | F10: QUANTITY W/ WASTAGE
A11: =IF(E11<>"",1+MAX($A$2:A10),"") | C11: HVAC
A12: =IF(E12<>"",1+MAX($A$2:A11),"") | B12: GALVANIZED SHEET METAL DUCT | E12: =IF(D12=0,"",0) | F12: =IF(D12=0,"",D12*(1+E12))
A13: =IF(E13<>"",1+MAX($A$2:A12),"") -> 1 | B13: 4" Dia Supply Air Duct | C13: LF | D13: 843 | E13: 0.1 | F13: =IF(D13=0,"",D13*(1+E13)) -> 927.3
A14: =IF(E14<>"",1+MAX($A$2:A13),"") -> 2 | B14: 6" Dia Supply Air Duct | C14: LF | D14: 17 | E14: 0.1 | F14: =IF(D14=0,"",D14*(1+E14)) -> 18.7
A15: =IF(E15<>"",1+MAX($A$2:A14),"") -> 3 | B15: 8" Dia Supply Air Duct | C15: LF | D15: 72 | E15: 0.1 | F15: =IF(D15=0,"",D15*(1+E15)) -> 79.2
A16: =IF(E16<>"",1+MAX($A$2:A15),"") -> 4 | B16: 12" Dia Supply Air Duct | C16: LF | D16: 6 | E16: 0.1 | F16: =IF(D16=0,"",D16*(1+E16)) -> 6.6
A17: =IF(E17<>"",1+MAX($A$2:A16),"") -> 5 | B17: 6"x6" Supply Air Duct | C17: LF | D17: 141 | E17: 0.1 | F17: =IF(D17=0,"",D17*(1+E17)) -> 155.1
A18: =IF(E18<>"",1+MAX($A$2:A17),"") -> 6 | B18: 8"x6" Supply Air Duct | C18: LF | D18: 54 | E18: 0.1 | F18: =IF(D18=0,"",D18*(1+E18)) -> 59.4
A19: =IF(E19<>"",1+MAX($A$2:A18),"") -> 7 | B19: 8"x8" Supply Air Duct | C19: LF | D19: 150 | E19: 0.1 | F19: =IF(D19=0,"",D19*(1+E19)) -> 165
A20: =IF(E20<>"",1+MAX($A$2:A19),"") -> 8 | B20: 10"x10" Supply Air Duct | C20: LF | D20: 147 | E20: 0.1 | F20: =IF(D20=0,"",D20*(1+E20)) -> 161.7
A21: =IF(E21<>"",1+MAX($A$2:A20),"") -> 9 | B21: 12"x8" Supply Air Duct | C21: LF | D21: 42 | E21: 0.1 | F21: =IF(D21=0,"",D21*(1+E21)) -> 46.2
A22: =IF(E22<>"",1+MAX($A$2:A21),"") -> 10 | B22: 12"x10" Supply Air Duct | C22: LF | D22: 12 | E22: 0.1 | F22: =IF(D22=0,"",D22*(1+E22)) -> 13.2
A23: =IF(E23<>"",1+MAX($A$2:A22),"") -> 11 | B23: 14"x8" Supply Air Duct | C23: LF | D23: 75 | E23: 0.1 | F23: =IF(D23=0,"",D23*(1+E23)) -> 82.5
A24: =IF(E24<>"",1+MAX($A$2:A23),"") -> 12 | B24: 14"x10" Supply Air Duct | C24: LF | D24: 27 | E24: 0.1 | F24: =IF(D24=0,"",D24*(1+E24)) -> 29.7
... A54: =IF(E54<>"",1+MAX($A$2:A53),"") -> 42 | B54: 8"x8" Exhaust Air Duct | C54: LF | D54: 59 | E54: 0.1 | F54: =IF(D54=0,"",D54*(1+E54)) -> 64.9
A55: =IF(E55<>"",1+MAX($A$2:A53),"") -> 42 | B55: 12"x12" Exhaust Air Duct | C55: LF | D55: 24 | E55: 0.1 | F55: =IF(D55=0,"",D55*(1+E55)) -> 26.4
A56: =IF(E56<>"",1+MAX($A$2:A54),"") -> 43 | B56: 10"x10" Transfer Air Duct | C56: LF | D56: 8 | E56: 0.1 | F56: =IF(D56=0,"",D56*(1+E56)) -> 8.8
