Workbook

Sheet General Summary
A1: GENERAL SUMMARY
A2: ='Takeoff Breakdown'!A3 -> Prepared for: | B2: ='Takeoff Breakdown'!B3 -> CAS Rockville Welcome Center, 14645 Rothgeb Drive Rockville, MD 20850
A3: ='Takeoff Breakdown'!A4 -> Project ID: | B3: ='Takeoff Breakdown'!B4 -> 3112023
A4: ='Takeoff Breakdown'!A5 -> Scope: | B4: ='Takeoff Breakdown'!B5 -> G.C
A5: No. Of Floors: | B5: 1
A6: Date: | B6: ='Takeoff Breakdown'!N9 -> 45233
A8: BUILDING GSF | B8: 13993
A9: DIVISION NO | B9: DESCRIPTION | C9: TOTAL DIV. COST | D9: TOTAL DIV. COST (PER SF)
A10: 1000 | B10: General Requirements | C10: ='Takeoff Breakdown'!N19 -> 85500 | D10: =C10/$B$8 -> 6.110198
A11: 2000 | B11: Existing Condition | C11: ='Takeoff Breakdown'!N59 -> 13824.627 | D11: =C11/$B$8 -> 0.98796737
A12: 3000 | B12: Concrete | C12: ='Takeoff Breakdown'!N74 -> 20502.554 | D12: =C12/$B$8 -> 1.4652007
A13: 4000 | B13: Masonry | C13: ='Takeoff Breakdown'!N81 -> 1468.1672 | D13: =C13/$B$8 -> 0.10492155
A14: 5000 | B14: Metals | C14: ='Takeoff Breakdown'!N90 -> 6390.459 | D14: =C14/$B$8 -> 0.4566897
A15: 6000 | B15: Wood, Plastics & Composites | C15: ='Takeoff Breakdown'!N111 -> 10548.473 | D15: =C15/$B$8 -> 0.75383928
A16: 7000 | B16: Thermal & Moisture Protection | C16: ='Takeoff Breakdown'!N138 -> 153973.82 | D16: =C16/$B$8 -> 11.003632
A17: 8000 | B17: Opening | C17: ='Takeoff Breakdown'!N185 -> 97992.219 | D17: =C17/$B$8 -> 7.0029457
A18: 9000 | B18: Finishes | C18: ='Takeoff Breakdown'!N264 -> 116605.87 | D18: =C18/$B$8 -> 8.3331574
A19: 10000 | B19: Specialties | C19: ='Takeoff Breakdown'!N271 -> 1220.35 | D19: =C19/$B$8 -> 0.087211463
A20: 12000 | B20: Furnishing | C20: ='Takeoff Breakdown'!N281 -> 6752.0829 | D20: =C20/$B$8 -> 0.4825329
A21: 22000 | B21: Plumbing | C21: ='Takeoff Breakdown'!N330 -> 24864.078 | D21: =C21/$B$8 -> 1.776894
A22: 23000 | B22: Hvac | C22: ='Takeoff Breakdown'!N404 -> 217957.63 | D22: =C22/$B$8 -> 15.57619
A23: 26000 | B23: Electrical | C23: ='Takeoff Breakdown'!N456 -> 111720.8 | D23: =C23/$B$8 -> 7.9840495
A24: 28000 | B24: Electronic Safety And Security Manufacturer | C24: ='Takeoff Breakdown'!N465 -> 5403.63 | D24: =C24/$B$8 -> 0.38616665
A25: 31000 | B25: Earthwork | C25: ='Takeoff Breakdown'!N485 -> 8116.8465 | D25: =C25/$B$8 -> 0.58006479
A26: 32000 | B26: Site Improvements | C26: ='Takeoff Breakdown'!N536 -> 39204.901 | D26: =C26/$B$8 -> 2.801751
A27: TOTAL TRADE COST | C27: =SUM(C10:C26) -> 922046.51 | D27: =SUM(D10:D26) -> 65.893412
A29: OVERHEAD AND PROFIT | B29: =+'Takeoff Breakdown'!M539 -> 0.1 | C29: =C27*B29 -> 92204.651 | D29: =D27*B29 -> 6.5893412
A30: INSURANCE | B30: =+'Takeoff Breakdown'!M540 -> 0.03 | C30: =C27*B30 -> 27661.395 | D30: =D27*B30 -> 1.9768023
A31: CONTINGENCY | B31: =+'Takeoff Breakdown'!M541 -> 0.05 | C31: =C27*B31 -> 46102.325 | D31: =D27*B31 -> 3.2946706
A32: TAX | B32: ='Takeoff Breakdown'!M542 -> 0.06 | C32: ='Takeoff Breakdown'!Q536*B32 -> 35604.8 | D32: =D27*B32 -> 3.9536047
A33: SUGGESTED BID | C33: =SUM(C27,C29:C32) -> 1123619.7 | D33: =SUM(D27,D29:D32) -> 81.70783

Sheet Takeoff Breakdown
A2: DETAILED BREAKDOWN OF ITEMS
A3: Prepared for: | B3: CAS Rockville Welcome Center, 14645 Rothgeb Drive Rockville, MD 20850
A4: Project ID: | B4: 3112023
A5: Scope: | B5: G.C
M9: Date: | N9: =TODAY() -> 45233
A10: SR # | B10: Drawing # | C10: Detail # | D10: DESCRIPTION | E10: UNIT | F10: QUANTITY | G10: WASTAGE | H10: QUANTITY W/ WASTAGE | I10: UNIT MANHOUR | J10: HOURLY WAGE | K10: LABOR COST | L10: MAT. COST | M10: UNIT COST | N10: SUB COST
E11: GENERAL REQUIREMENTS
A12: =IF(G12<>"",1+MAX($A$2:A11),"") -> 1 | D12: Permits | E12: LS | F12: 1 | G12: 0 | H12: =(G12*F12)+F12 -> 1 | I12: 0 | J12: 0 | K12: 0 | L12: 0 | N12: =H12*M12 -> 0
A13: =IF(G13<>"",1+MAX($A$2:A12),"") -> 2 | D13: Supervision and Coordination | E13: LS | F13: 1 | G13: 0 | H13: =(G13*F13)+F13 -> 1 | I13: 0 | J13: 0 | K13: 0 | L13: 0 | M13: 45000 | N13: =H13*M13 -> 45000
A14: =IF(G14<>"",1+MAX($A$2:A13),"") -> 3 | D14: Submittals and Shop drawings | E14: LS | F14: 1 | G14: 0 | H14: =(G14*F14)+F14 -> 1 | I14: 0 | J14: 0 | K14: 0 | L14: 0 | M14: 2500 | N14: =H14*M14 -> 2500
A15: =IF(G15<>"",1+MAX($A$2:A14),"") -> 4 | D15: Final Cleaning | E15: LS | F15: 1 | G15: 0 | H15: =(G15*F15)+F15 -> 1 | I15: 0 | J15: 0 | K15: 0 | L15: 0 | M15: 2000 | N15: =H15*M15 -> 2000
A16: =IF(G16<>"",1+MAX($A$2:A15),"") -> 5 | D16: Mobilization Costs | E16: LS | F16: 1 | G16: 0 | H16: =(G16*F16)+F16 -> 1 | I16: 0 | J16: 0 | K16: 0 | L16: 0 | M16: 28500 | N16: =H16*M16 -> 28500
A17: =IF(G17<>"",1+MAX($A$2:A16),"") -> 6 | D17: Temporary Control & Facilities | E17: LS | F17: 1 | G17: 0 | H17: =(G17*F17)+F17 -> 1 | I17: 0 | J17: 0 | K17: 0 | L17: 0 | M17: 5500 | N17: =H17*M17 -> 5500
A18: =IF(G18<>"",1+MAX($A$2:A17),"") -> 7 | D18: Scaffolding | E18: LS | F18: 1 | G18: 0 | H18: =(G18*F18)+F18 -> 1 | I18: 0 | J18: 0 | K18: 0 | L18: 0 | M18: 2000 | N18: =H18*M18 -> 2000
A19: =IF(G19<>"",1+MAX($A$2:A18),"") | M19: SUBTOTAL | N19: =SUM(N12:N18) -> 85500
A20: =IF(G20<>"",1+MAX($A$2:A19),"")
A21: =IF(G21<>"",1+MAX($A$2:A20),"") | E21: EXISTING CONDITIONS | P21: LABOR COST | Q21: MAT. COST
A22: =IF(G22<>"",1+MAX($A$2:A21),"") | D22: DEMOLITION
A23: =IF(G23<>"",1+MAX($A$2:A22),"") -> 8 | B23: D101 | C23: Demo Plan | D23: Tag 1: Remove Existing Door in its entirety Door Size: (3'-0" W x 7'-0" H) | E23: EA | F23: 9 | G23: 0 | H23: =(G23*F23)+F23 -> 9 | I23: 1.32 | J23: 32 | K23: =I23*J23 -> 42.24 | L23: 0 | M23: =K23+L23 -> 42.24 | N23: =H23*M23 -> 380.16 | P23: =K23*H23 -> 380.16 | Q23: =L23*H23 -> 0
A24: =IF(G24<>"",1+MAX($A$2:A23),"") -> 9 | D24: Remove Existing Door in its entirety Door Size: (3'-0" W x 7'-0" H) Note: At These Location There are New Doors In Door Schedule, But No Demolition is Given In Demo Plan D101 , So We Have Assumed Demo For These Four Doors. | E24: EA | F24: 4 | G24: 0 | H24: =(G24*F24)+F24 -> 4 | I24: 1.32 | J24: =J$23 -> 32 | K24: =I24*J24 -> 42.24 | L24: 0 | M24: =K24+L24 -> 42.24 | N24: =H24*M24 -> 168.96 | P24: =K24*H24 -> 168.96 | Q24: =L24*H24 -> 0
A25: =IF(G25<>"",1+MAX($A$2:A24),"") -> 10 | D25: Tag 2: Remove Existing Stud Wall (11' H Assumed) | E25: SF | F25: =140.67*11 -> 1547.37 | G25: 0 | H25: =(G25*F25)+F25 -> 1547.37 | I25: 0.01 | J25: =J$23 -> 32 | K25: =I25*J25 -> 0.32 | L25: 0 | M25: =K25+L25 -> 0.32 | N25: =H25*M25 -> 495.1584 | P25: =K25*H25 -> 495.1584 | Q25: =L25*H25 -> 0
A26: =IF(G26<>"",1+MAX($A$2:A25),"") -> 11 | D26: Tag 3: Remove Existing 96"W x 42"H Window (1 EA) | E26: SF | F26: 28 | G26: 0 | H26: =(G26*F26)+F26 -> 28 | I26: 1.2 | J26: =J$23 -> 32 | K26: =I26*J26 -> 38.4 | L26: 0 | M26: =K26+L26 -> 38.4 | N26: =H26*M26 -> 1075.2 | P26: =K26*H26 -> 1075.2 | Q26: =L26*H26 -> 0
A27: =IF(G27<>"",1+MAX($A$2:A26),"") -> 12 | D27: Tag 8: Remove Interior Masonry Wall (9'-6" H Assumed) | E27: SF | F27: =9.5*6.36 -> 60.42 | G27: 0 | H27: =(G27*F27)+F27 -> 60.42 | I27: 0.028 | J27: =J$23 -> 32 | K27: =I27*J27 -> 0.896 | L27: 0 | M27: =K27+L27 -> 0.896 | N27: =H27*M27 -> 54.13632 | P27: =K27*H27 -> 54.13632 | Q27: =L27*H27 -> 0
A28: =IF(G28<>"",1+MAX($A$2:A27),"") -> 13 | D28: Tag 3: Remove Existing 24"W x 42"H Window (3 EA) | E28: SF | F28: 31 | G28: 0 | H28: =(G28*F28)+F28 -> 31 | I28: 0.5 | J28: =J$23 -> 32 | K28: =I28*J28 -> 16 | L28: 0 | M28: =K28+L28 -> 16 | N28: =H28*M28 -> 496 | P28: =K28*H28 -> 496 | Q28: =L28*H28 -> 0
A29: =IF(G29<>"",1+MAX($A$2:A28),"") -> 14 | D29: Tag 18: Demolish Existing Masonry Wall ( 9'-3" H) | E29: SF | F29: =9.25*30.32 -> 280.46 | G29: 0 | H29: =(G29*F29)+F29 -> 280.46 | I29: 0.028 | J29: =J$23 -> 32 | K29: =I29*J29 -> 0.896 | L29: 0 | M29: =K29+L29 -> 0.896 | N29: =H29*M29 -> 251.29216 | P29: =K29*H29 -> 251.29216 | Q29: =L29*H29 -> 0
A30: =IF(G30<>"",1+MAX($A$2:A29),"") -> 15 | D30: Tag 19: Saw Cut Window Opening In Masonry Wall( 56" W x 48" H, 11 EA) | E30: SF | F30: 462 | G30: 0 | H30: =(G30*F30)+F30 -> 462 | I30: 0.032 | J30: =J$23 -> 32 | K30: =I30*J30 -> 1.024 | L30: 0 | M30: =K30+L30 -> 1.024 | N30: =H30*M30 -> 473.088 | P30: =K30*H30 -> 473.088 | Q30: =L30*H30 -> 0
A31: =IF(G31<>"",1+MAX($A$2:A30),"") -> 16 | D31: Tag 17: Remove Dog Hatch (3' H x16" Assumed) | E31: EA | F31: 12 | G31: 0 | H31: =(G31*F31)+F31 -> 12 | I31: 0.5 | J31: =J$23 -> 32 | K31: =I31*J31 -> 16 | L31: 0 | M31: =K31+L31 -> 16 | N31: =H31*M31 -> 192 | P31: =K31*H31 -> 192 | Q31: =L31*H31 -> 0
A32: =IF(G32<>"",1+MAX($A$2:A31),"") -> 17 | D32: Tag 22: Remove Chain Link & Pipe Kennels | E32: SF | F32: 4396.01 | G32: 0 | H32: =(G32*F32)+F32 -> 4396.01 | I32: 0.005 | J32: =J$23 -> 32 | K32: =I32*J32 -> 0.16 | L32: 0 | M32: =K32+L32 -> 0.16 | N32: =H32*M32 -> 703.3616 | P32: =K32*H32 -> 703.3616 | Q32: =L32*H32 -> 0
A33: =IF(G33<>"",1+MAX($A$2:A32),"") -> 18 | D33: Tag 19: Saw Cut Door Opening In Masonry Wall( 6'3" W x 7' H) | E33: SF | F33: 44 | G33: 0 | H33: =(G33*F33)+F33 -> 44 | I33: 0.032 | J33: =J$23 -> 32 | K33: =I33*J33 -> 1.024 | L33: 0 | M33: =K33+L33 -> 1.024 | N33: =H33*M33 -> 45.056 | P33: =K33*H33 -> 45.056 | Q33: =L33*H33 -> 0
A34: =IF(G34<>"",1+MAX($A$2:A33),"") -> 19 | D34: Tag 12: Remove Wood Shed incl. Concrete Pad | E34: SF | F34: 139.74 | G34: 0 | H34: =(G34*F34)+F34 -> 139.74 | I34: 0.056 | J34: =J$23 -> 32 | K34: =I34*J34 -> 1.792 | L34: 0 | M34: =K34+L34 -> 1.792 | N34: =H34*M34 -> 250.41408 | P34: =K34*H34 -> 250.41408 | Q34: =L34*H34 -> 0
A35: =IF(G35<>"",1+MAX($A$2:A34),"") -> 20 | D35: Tag 16: Remove Existing Pipe Bollard (5' H Assumed) | E35: EA | F35: 4 | G35: 0 | H35: =(G35*F35)+F35 -> 4 | I35: 0.425 | J35: =J$23 -> 32 | K35: =I35*J35 -> 13.6 | L35: 0 | M35: =K35+L35 -> 13.6 | N35: =H35*M35 -> 54.4 | P35: =K35*H35 -> 54.4 | Q35: =L35*H35 -> 0
A36: =IF(G36<>"",1+MAX($A$2:A35),"") -> 21 | D36: Tag 15: Remove Existing Transformer (2'-8" W x 4' L) | E36: EA | F36: 2 | G36: 0 | H36: =(G36*F36)+F36 -> 2 | I36: 1.5 | J36: =J$23 -> 32 | K36: =I36*J36 -> 48 | L36: 0 | M36: =K36+L36 -> 48 | N36: =H36*M36 -> 96 | P36: =K36*H36 -> 96 | Q36: =L36*H36 -> 0
A37: =IF(G37<>"",1+MAX($A$2:A36),"") -> 22 | D37: Tag 11: Remove Compressor , Ducts incl. Concrete Pad | E37: SF | F37: 140.31 | G37: 0 | H37: =(G37*F37)+F37 -> 140.31 | I37: 0.056 | J37: =J$23 -> 32 | K37: =I37*J37 -> 1.792 | L37: 0 | M37: =K37+L37 -> 1.792 | N37: =H37*M37 -> 251.43552 | P37: =K37*H37 -> 251.43552 | Q37: =L37*H37 -> 0
A38: =IF(G38<>"",1+MAX($A$2:A37),"") -> 23 | D38: Tag 14: Remove Existing Chain Link Fence (7' H Assumed) | E38: SF | F38: =102.2*7 -> 715.4 | G38: 0 | H38: =(G38*F38)+F38 -> 715.4 | I38: 0.01 | J38: =J$23 -> 32 | K38: =I38*J38 -> 0.32 | L38: 0 | M38: =K38+L38 -> 0.32 | N38: =H38*M38 -> 228.928 | P38: =K38*H38 -> 228.928 | Q38: =L38*H38 -> 0
A39: =IF(G39<>"",1+MAX($A$2:A38),"") -> 24 | D39: Tag 20: Remove Existing Chain Link Fence Gate (5' H x 20' W, Height is Assumed) | E39: EA | F39: 1 | G39: 0 | H39: =(G39*F39)+F39 -> 1 | I39: 2.5 | J39: =J$23 -> 32 | K39: =I39*J39 -> 80 | L39: 0 | M39: =K39+L39 -> 80 | N39: =H39*M39 -> 80 | P39: =K39*H39 -> 80 | Q39: =L39*H39 -> 0
A40: =IF(G40<>"",1+MAX($A$2:A39),"") -> 25 | D40: Tag 20: Remove Existing Chain Link Fence Gate (5' H x 5' W, Height is Assumed) | E40: EA | F40: 1 | G40: 0 | H40: =(G40*F40)+F40 -> 1 | I40: 0.6 | J40: =J$23 -> 32 | K40: =I40*J40 -> 19.2 | L40: 0 | M40: =K40+L40 -> 19.2 | N40: =H40*M40 -> 19.2 | P40: =K40*H40 -> 19.2 | Q40: =L40*H40 -> 0
A41: =IF(G41<>"",1+MAX($A$2:A40),"") -> 26 | D41: Tag 8,9: Remove Existing Masonry Retaining Wall (95 LF) Note: We Assumed Area According To The Plan Notes, (Site Information/GI-100), Please verify. | E41: SF | F41: 190 | G41: 0 | H41: =(G41*F41)+F41 -> 190 | I41: 0.028 | J41: =J$23 -> 32 | K41: =I41*J41 -> 0.896 | L41: 0 | M41: =K41+L41 -> 0.896 | N41: =H41*M41 -> 170.24 | P41: =K41*H41 -> 170.24 | Q41: =L41*H41 -> 0
A42: =IF(G42<>"",1+MAX($A$2:A41),"") -> 27 | D42: Tag 10: Provide Opening In Existing Masonry Wall. | E42: SF | F42: =6.67*8.25 -> 55.0275 | G42: 0 | H42: =(G42*F42)+F42 -> 55.0275 | I42: 0.032 | J42: =J$23 -> 32 | K42: =I42*J42 -> 1.024 | L42: 0 | M42: =K42+L42 -> 1.024 | N42: =H42*M42 -> 56.34816 | P42: =K42*H42 -> 56.34816 | Q42: =L42*H42 -> 0
A43: =IF(G43<>"",1+MAX($A$2:A42),"") -> 28 | B43: D101 | C43: Roof Demo Plan | D43: Tag 5: Remove Existing Roof Membrane(1" Thick, 2 Layers Of Rolled Asphalt Roofing) & 2" Thick Insulation | E43: SF | F43: 12747 | G43: 0 | H43: =(G43*F43)+F43 -> 12747 | I43: 0.013 | J43: =J$23 -> 32 | K43: =I43*J43 -> 0.416 | L43: 0 | M43: =K43+L43 -> 0.416 | N43: =H43*M43 -> 5302.752 | P43: =K43*H43 -> 5302.752 | Q43: =L43*H43 -> 0
A44: =IF(G44<>"",1+MAX($A$2:A43),"") -> 29 | D44: Tag 7: Remove Existing Solar Panels, Dunnage & Supports Above Roof | E44: SF | F44: 452.91 | G44: 0 | H44: =(G44*F44)+F44 -> 452.91 | I44: 0.008 | J44: =J$23 -> 32 | K44: =I44*J44 -> 0.256 | L44: 0 | M44: =K44+L44 -> 0.256 | N44: =H44*M44 -> 115.94496 | P44: =K44*H44 -> 115.94496 | Q44: =L44*H44 -> 0
...
